BEGIN:VCALENDAR
VERSION:2.0
PRODID:-//Catholic Youth Ministry - CDOW - ECPv6.15.20//NONSGML v1.0//EN
CALSCALE:GREGORIAN
METHOD:PUBLISH
X-ORIGINAL-URL:https://cdowcym.org
X-WR-CALDESC:Events for Catholic Youth Ministry - CDOW
REFRESH-INTERVAL;VALUE=DURATION:PT1H
X-Robots-Tag:noindex
X-PUBLISHED-TTL:PT1H
BEGIN:VTIMEZONE
TZID:America/New_York
BEGIN:DAYLIGHT
TZOFFSETFROM:-0500
TZOFFSETTO:-0400
TZNAME:EDT
DTSTART:20240310T070000
END:DAYLIGHT
BEGIN:STANDARD
TZOFFSETFROM:-0400
TZOFFSETTO:-0500
TZNAME:EST
DTSTART:20241103T060000
END:STANDARD
BEGIN:DAYLIGHT
TZOFFSETFROM:-0500
TZOFFSETTO:-0400
TZNAME:EDT
DTSTART:20250309T070000
END:DAYLIGHT
BEGIN:STANDARD
TZOFFSETFROM:-0400
TZOFFSETTO:-0500
TZNAME:EST
DTSTART:20251102T060000
END:STANDARD
BEGIN:DAYLIGHT
TZOFFSETFROM:-0500
TZOFFSETTO:-0400
TZNAME:EDT
DTSTART:20260308T070000
END:DAYLIGHT
BEGIN:STANDARD
TZOFFSETFROM:-0400
TZOFFSETTO:-0500
TZNAME:EST
DTSTART:20261101T060000
END:STANDARD
BEGIN:DAYLIGHT
TZOFFSETFROM:-0500
TZOFFSETTO:-0400
TZNAME:EDT
DTSTART:20270314T070000
END:DAYLIGHT
BEGIN:STANDARD
TZOFFSETFROM:-0400
TZOFFSETTO:-0500
TZNAME:EST
DTSTART:20271107T060000
END:STANDARD
END:VTIMEZONE
BEGIN:VTIMEZONE
TZID:America/New_York
BEGIN:DAYLIGHT
TZOFFSETFROM:-0500
TZOFFSETTO:-0400
TZNAME:EDT
DTSTART:20240310T070000
END:DAYLIGHT
BEGIN:STANDARD
TZOFFSETFROM:-0400
TZOFFSETTO:-0500
TZNAME:EST
DTSTART:20241103T060000
END:STANDARD
BEGIN:DAYLIGHT
TZOFFSETFROM:-0500
TZOFFSETTO:-0400
TZNAME:EDT
DTSTART:20250309T070000
END:DAYLIGHT
BEGIN:STANDARD
TZOFFSETFROM:-0400
TZOFFSETTO:-0500
TZNAME:EST
DTSTART:20251102T060000
END:STANDARD
BEGIN:DAYLIGHT
TZOFFSETFROM:-0500
TZOFFSETTO:-0400
TZNAME:EDT
DTSTART:20260308T070000
END:DAYLIGHT
BEGIN:STANDARD
TZOFFSETFROM:-0400
TZOFFSETTO:-0500
TZNAME:EST
DTSTART:20261101T060000
END:STANDARD
BEGIN:DAYLIGHT
TZOFFSETFROM:-0500
TZOFFSETTO:-0400
TZNAME:EDT
DTSTART:20270314T070000
END:DAYLIGHT
BEGIN:STANDARD
TZOFFSETFROM:-0400
TZOFFSETTO:-0500
TZNAME:EST
DTSTART:20271107T060000
END:STANDARD
END:VTIMEZONE
BEGIN:VEVENT
DTSTART;TZID=America/New_York:20260301T120000
DTEND;TZID=America/New_York:20260301T190000
DTSTAMP:20260421T104656
CREATED:20250922T184423Z
LAST-MODIFIED:20250922T184504Z
UID:2068-1772366400-1772391600@cdowcym.org
SUMMARY:🏀 Diocesan Catholic League: Basketball Championships
DESCRIPTION:Tentative Championship Date for Finals
URL:https://cdowcym.org/event/basketball-championships/
CATEGORIES:— Winter Sports,Athletics,General
END:VEVENT
BEGIN:VEVENT
DTSTART;VALUE=DATE:20260223
DTEND;VALUE=DATE:20260228
DTSTAMP:20260421T104656
CREATED:20250922T184925Z
LAST-MODIFIED:20250922T184936Z
UID:2074-1771804800-1772236799@cdowcym.org
SUMMARY:🏀 CYM Sports: Basketball Postseason
DESCRIPTION:Tentative Playoff Dates for Postseason.
URL:https://cdowcym.org/event/basketball-postseason/
CATEGORIES:— Winter Sports,Athletics,General
END:VEVENT
BEGIN:VEVENT
DTSTART;VALUE=DATE:20260216
DTEND;VALUE=DATE:20260217
DTSTAMP:20260421T104656
CREATED:20250528T162647Z
LAST-MODIFIED:20250922T185133Z
UID:1248-1771200000-1771286399@cdowcym.org
SUMMARY:Presidents' Day
DESCRIPTION:No CYM Sports Activities permitted.
URL:https://cdowcym.org/event/presidents-day/
CATEGORIES:— Winter Sports,Athletics,General
END:VEVENT
BEGIN:VEVENT
DTSTART;VALUE=DATE:20251222
DTEND;VALUE=DATE:20260105
DTSTAMP:20260421T104656
CREATED:20250528T163048Z
LAST-MODIFIED:20250922T185120Z
UID:1254-1766361600-1767571199@cdowcym.org
SUMMARY:CYM Sports Winter Break
DESCRIPTION:All CYM Sports Activities permitted for tournaments\, make-ups\, etc.  \nNo scheduled games for CYM-Sanction league play.
URL:https://cdowcym.org/event/cym-sports-winter-break/
CATEGORIES:— Winter Sports,Athletics,General
END:VEVENT
BEGIN:VEVENT
DTSTART;VALUE=DATE:20251205
DTEND;VALUE=DATE:20251206
DTSTAMP:20260421T104656
CREATED:20250922T184238Z
LAST-MODIFIED:20250922T184238Z
UID:2066-1764892800-1764979199@cdowcym.org
SUMMARY:☆ Winter Sports Season ☆
DESCRIPTION:Official start of competition season for all winter sports.
URL:https://cdowcym.org/event/%e2%98%86-winter-sports-season-%e2%98%86/
CATEGORIES:— Winter Sports,Athletics,General
END:VEVENT
BEGIN:VEVENT
DTSTART;VALUE=DATE:20251204
DTEND;VALUE=DATE:20251205
DTSTAMP:20260421T104656
CREATED:20250528T191315Z
LAST-MODIFIED:20250922T182341Z
UID:1321-1764806400-1764892799@cdowcym.org
SUMMARY:Deadline: Roster Lock for Winter Sports
DESCRIPTION:All coaches with background checks approved by the Safe Environments Offices\, along with eligible student-athletes must be shown on roster by 4:00 p.m. Unfinished rosters will be deferred to policy procedures and protocols to bring to good standing.
URL:https://cdowcym.org/event/deadline-roster-lock-for-winter-sports/
CATEGORIES:— Winter Sports,Athletics,Deadlines,General
END:VEVENT
BEGIN:VEVENT
DTSTART;TZID=America/New_York:20251203T180000
DTEND;TZID=America/New_York:20251203T190000
DTSTAMP:20260421T104656
CREATED:20251029T180417Z
LAST-MODIFIED:20251029T180417Z
UID:2127-1764784800-1764788400@cdowcym.org
SUMMARY:Meeting For All Winter Coaches
DESCRIPTION:Informational Meeting for all Winter Coaches. Local coordinators\, head coaches and assistant coaches are encouraged to attend. \n\nThe meeting is informational based and not a discussion meeting.\nSeparate\, sports-specific meetings are available to coaches for the conclusion of the season.
URL:https://cdowcym.org/event/meeting-for-all-winter-coaches/
CATEGORIES:— Winter Sports,Athletics,General
END:VEVENT
BEGIN:VEVENT
DTSTART;TZID=America/New_York:20251202T180000
DTEND;TZID=America/New_York:20251202T193000
DTSTAMP:20260421T104656
CREATED:20251029T180250Z
LAST-MODIFIED:20251029T180258Z
UID:2125-1764698400-1764703800@cdowcym.org
SUMMARY:General Assembly Meeting for Athletic Association Representatives (Winter)
DESCRIPTION:Winter administrators meeting for Athletic Association Representatives (Athletic Association Presidents and Athletic Directors).
URL:https://cdowcym.org/event/general-assembly-meeting-for-athletic-association-representatives-winter/
CATEGORIES:— Winter Sports,Athletics,General
END:VEVENT
BEGIN:VEVENT
DTSTART;VALUE=DATE:20251201
DTEND;VALUE=DATE:20251202
DTSTAMP:20260421T104656
CREATED:20250528T191822Z
LAST-MODIFIED:20250922T182316Z
UID:1326-1764547200-1764633599@cdowcym.org
SUMMARY:Deadline: Submission of Winter Rosters
DESCRIPTION:Final day and deadline for coaches or coordinators to submit their rosters for Athletic Association Representatives approval. Effective 2025-2026\, no exceptions or extensions will be made by the office.
URL:https://cdowcym.org/event/deadline-submission-of-winter-rosters/
CATEGORIES:— Winter Sports,Athletics,Deadlines,General
END:VEVENT
BEGIN:VEVENT
DTSTART;VALUE=DATE:20251124
DTEND;VALUE=DATE:20251129
DTSTAMP:20260421T104656
CREATED:20250528T163335Z
LAST-MODIFIED:20250922T182349Z
UID:1256-1763942400-1764374399@cdowcym.org
SUMMARY:Thanksgiving Break
DESCRIPTION:All CYM Sports Activities permitted for tournaments\, practices\, etc. \nNo scheduled games for CYM-Sanction league play.
URL:https://cdowcym.org/event/thanksgiving-break/
CATEGORIES:— Winter Sports,Athletics,General
END:VEVENT
BEGIN:VEVENT
DTSTART;VALUE=DATE:20251114
DTEND;VALUE=DATE:20251121
DTSTAMP:20260421T104656
CREATED:20250922T183107Z
LAST-MODIFIED:20250922T184049Z
UID:2062-1763078400-1763683199@cdowcym.org
SUMMARY:Release: Winter Sport's Schedules
DESCRIPTION:Winter Sports schedules released on www.cymsports.com. \nNovember 14th: Varsity Girls; \nNovember 15th: Junior-Varsity Girls; \nNovember 16th: Pre-JV Girls; \nNovember 17th: Senior/Intermediate; \nNovember 18th: Pre-JV Boys; \nNovember 19th: Junior-Varsity Boys; \nNovember 20th: Varsity Boys; \n*DISCLAIMER: Administrator paperwork not completed before deadlines will result in unauthorized team’s and/or programs missing the 2025-2026 winter sport’s season window.
URL:https://cdowcym.org/event/release-winter-sports-schedules/
CATEGORIES:— Winter Sports,Athletics,General
END:VEVENT
BEGIN:VEVENT
DTSTART;VALUE=DATE:20251103
DTEND;VALUE=DATE:20251104
DTSTAMP:20260421T104656
CREATED:20250528T170119Z
LAST-MODIFIED:20250922T182403Z
UID:1272-1762128000-1762214399@cdowcym.org
SUMMARY:☆ Winter Practice Season ☆
DESCRIPTION:All winter sports may begin practicing the first Monday of November.
URL:https://cdowcym.org/event/winter-practice-season/
CATEGORIES:— Winter Sports,Athletics,General
END:VEVENT
BEGIN:VEVENT
DTSTART;VALUE=DATE:20251101
DTEND;VALUE=DATE:20251102
DTSTAMP:20260421T104656
CREATED:20250922T184719Z
LAST-MODIFIED:20250922T185031Z
UID:2072-1761955200-1762041599@cdowcym.org
SUMMARY:Deadline: Winter Team Submission Sheets
DESCRIPTION:Final day to submit Team Submission Sheet for Winter Sports for review. Add/Drop available until generation of Fall Schedule and posted to public.
URL:https://cdowcym.org/event/deadline-winter-team-submission-sheets/
CATEGORIES:— Winter Sports,Athletics,General
END:VEVENT
BEGIN:VEVENT
DTSTART;VALUE=DATE:20251101
DTEND;VALUE=DATE:20251102
DTSTAMP:20260421T104656
CREATED:20250922T184624Z
LAST-MODIFIED:20250922T184624Z
UID:2070-1761955200-1762041599@cdowcym.org
SUMMARY:Deadline: Location Availability & Winter Conflicts
DESCRIPTION:Final day and deadline to submit Location Availability & Winter Conflict sheets.
URL:https://cdowcym.org/event/deadline-location-availability-winter-conflicts/
CATEGORIES:— Winter Sports,Athletics,Deadlines,General
END:VEVENT
BEGIN:VEVENT
DTSTART;VALUE=DATE:20251020
DTEND;VALUE=DATE:20251103
DTSTAMP:20260421T104656
CREATED:20251029T180607Z
LAST-MODIFIED:20251029T180627Z
UID:2129-1760918400-1762127999@cdowcym.org
SUMMARY:Tryouts for Winter Sports
DESCRIPTION:All winter sports authorized to host tryouts in accordance with Tryout/Practice Guidelines (2022-2023). \n\nCoaches and Coordinators must be familiar with guidelines as tryouts prior to the official start of practice season does not apply to all programs/teams.
URL:https://cdowcym.org/event/tryouts-for-winter-sports/
CATEGORIES:— Winter Sports,Athletics,General
END:VEVENT
BEGIN:VEVENT
DTSTART;VALUE=DATE:20251020
DTEND;VALUE=DATE:20251021
DTSTAMP:20260421T104656
CREATED:20250922T182522Z
LAST-MODIFIED:20250922T182522Z
UID:2060-1760918400-1761004799@cdowcym.org
SUMMARY:Assessments for Winter Sports
DESCRIPTION:All winter sports authorized to host tryouts in accordance with Tryout/Practice Guidelines (2022-2023). Coaches and Coordinators must be familiar with guidelines as tryouts prior to the official start of practice season does not apply to all programs/teams.
URL:https://cdowcym.org/event/assessments-for-winter-sports/
CATEGORIES:— Winter Sports,Athletics,General
END:VEVENT
END:VCALENDAR