BEGIN:VCALENDAR
VERSION:2.0
PRODID:-//Catholic Youth Ministry - CDOW - ECPv6.15.20//NONSGML v1.0//EN
CALSCALE:GREGORIAN
METHOD:PUBLISH
X-WR-CALNAME:Catholic Youth Ministry - CDOW
X-ORIGINAL-URL:https://cdowcym.org
X-WR-CALDESC:Events for Catholic Youth Ministry - CDOW
REFRESH-INTERVAL;VALUE=DURATION:PT1H
X-Robots-Tag:noindex
X-PUBLISHED-TTL:PT1H
BEGIN:VTIMEZONE
TZID:America/New_York
BEGIN:DAYLIGHT
TZOFFSETFROM:-0500
TZOFFSETTO:-0400
TZNAME:EDT
DTSTART:20260308T070000
END:DAYLIGHT
BEGIN:STANDARD
TZOFFSETFROM:-0400
TZOFFSETTO:-0500
TZNAME:EST
DTSTART:20261101T060000
END:STANDARD
BEGIN:DAYLIGHT
TZOFFSETFROM:-0500
TZOFFSETTO:-0400
TZNAME:EDT
DTSTART:20270314T070000
END:DAYLIGHT
BEGIN:STANDARD
TZOFFSETFROM:-0400
TZOFFSETTO:-0500
TZNAME:EST
DTSTART:20271107T060000
END:STANDARD
BEGIN:DAYLIGHT
TZOFFSETFROM:-0500
TZOFFSETTO:-0400
TZNAME:EDT
DTSTART:20280312T070000
END:DAYLIGHT
BEGIN:STANDARD
TZOFFSETFROM:-0400
TZOFFSETTO:-0500
TZNAME:EST
DTSTART:20281105T060000
END:STANDARD
END:VTIMEZONE
BEGIN:VTIMEZONE
TZID:America/New_York
BEGIN:DAYLIGHT
TZOFFSETFROM:-0500
TZOFFSETTO:-0400
TZNAME:EDT
DTSTART:20260308T070000
END:DAYLIGHT
BEGIN:STANDARD
TZOFFSETFROM:-0400
TZOFFSETTO:-0500
TZNAME:EST
DTSTART:20261101T060000
END:STANDARD
BEGIN:DAYLIGHT
TZOFFSETFROM:-0500
TZOFFSETTO:-0400
TZNAME:EDT
DTSTART:20270314T070000
END:DAYLIGHT
BEGIN:STANDARD
TZOFFSETFROM:-0400
TZOFFSETTO:-0500
TZNAME:EST
DTSTART:20271107T060000
END:STANDARD
BEGIN:DAYLIGHT
TZOFFSETFROM:-0500
TZOFFSETTO:-0400
TZNAME:EDT
DTSTART:20280312T070000
END:DAYLIGHT
BEGIN:STANDARD
TZOFFSETFROM:-0400
TZOFFSETTO:-0500
TZNAME:EST
DTSTART:20281105T060000
END:STANDARD
END:VTIMEZONE
BEGIN:VEVENT
DTSTART;VALUE=DATE:20270301
DTEND;VALUE=DATE:20270302
DTSTAMP:20260421T165043
CREATED:20250528T165605Z
LAST-MODIFIED:20260420T161705Z
UID:1268-1803859200-1803945599@cdowcym.org
SUMMARY:🌟 Spring Practice Season 🌟
DESCRIPTION:All fall sports may begin officially practicing in accordance with 10.1 Universal Guidelines.
URL:https://cdowcym.org/event/spring-practice-season/
CATEGORIES:— Spring Sports,Athletics
END:VEVENT
BEGIN:VEVENT
DTSTART;TZID=America/New_York:20270320T090000
DTEND;TZID=America/New_York:20270320T173000
DTSTAMP:20260421T165043
CREATED:20260108T184921Z
LAST-MODIFIED:20260420T141943Z
UID:2254-1805533200-1805563800@cdowcym.org
SUMMARY:✝️ 16th CYM Pilgrimage
DESCRIPTION:Join us for the celebration of the 16th CYM Pilgrimage! We are so excited to continue this amazing tradition\, beginning and ending at St. Elizabeth Church in Wilmington\, with stops at St. Francis Hospital\, St. Anthony’s\, Padua Academy\, and St. Paul’s. Help us to continue giving all glory to God at this annual event! \n❌ No CYM Sports activities and events\, including practices permitted.
URL:https://cdowcym.org/event/cym-pilgrimage/
LOCATION:St. Elizabeth Roman Catholic Church\, 1500 Cedar Street\, Wilmington\, DE\, 19805\, United States
CATEGORIES:— Spring Sports,Athletics,Events,General
END:VEVENT
BEGIN:VEVENT
DTSTART;VALUE=DATE:20270325
DTEND;VALUE=DATE:20270326
DTSTAMP:20260421T165043
CREATED:20250528T192011Z
LAST-MODIFIED:20260420T160813Z
UID:1328-1805932800-1806019199@cdowcym.org
SUMMARY:⚠️ Deadline: Coach Submission of Spring Rosters
DESCRIPTION:Final day and deadline for local coaches/coordinators to submit their rosters to Athletic Association Representatives (AAR) for approval by 11:59pm.
URL:https://cdowcym.org/event/deadline-submission-of-spring-rosters/
CATEGORIES:— Spring Sports,Athletics
END:VEVENT
BEGIN:VEVENT
DTSTART;VALUE=DATE:20270325
DTEND;VALUE=DATE:20270405
DTSTAMP:20260421T165043
CREATED:20250528T162339Z
LAST-MODIFIED:20260420T155719Z
UID:1242-1805932800-1806883199@cdowcym.org
SUMMARY:🐣 Easter Break
DESCRIPTION:No CYM Sports Activities permitted\, including practices during Holy Triduum (Holy Wednesday-Easter Monday). \nNo CYM Sports competition scheduled\, except preapproved weather-related make-ups.
URL:https://cdowcym.org/event/easter/
CATEGORIES:— Spring Sports,Athletics
END:VEVENT
END:VCALENDAR