BEGIN:VCALENDAR
VERSION:2.0
PRODID:-//Catholic Youth Ministry - CDOW - ECPv6.15.20//NONSGML v1.0//EN
CALSCALE:GREGORIAN
METHOD:PUBLISH
X-WR-CALNAME:Catholic Youth Ministry - CDOW
X-ORIGINAL-URL:https://cdowcym.org
X-WR-CALDESC:Events for Catholic Youth Ministry - CDOW
REFRESH-INTERVAL;VALUE=DURATION:PT1H
X-Robots-Tag:noindex
X-PUBLISHED-TTL:PT1H
BEGIN:VTIMEZONE
TZID:America/New_York
BEGIN:DAYLIGHT
TZOFFSETFROM:-0500
TZOFFSETTO:-0400
TZNAME:EDT
DTSTART:20250309T070000
END:DAYLIGHT
BEGIN:STANDARD
TZOFFSETFROM:-0400
TZOFFSETTO:-0500
TZNAME:EST
DTSTART:20251102T060000
END:STANDARD
BEGIN:DAYLIGHT
TZOFFSETFROM:-0500
TZOFFSETTO:-0400
TZNAME:EDT
DTSTART:20260308T070000
END:DAYLIGHT
BEGIN:STANDARD
TZOFFSETFROM:-0400
TZOFFSETTO:-0500
TZNAME:EST
DTSTART:20261101T060000
END:STANDARD
BEGIN:DAYLIGHT
TZOFFSETFROM:-0500
TZOFFSETTO:-0400
TZNAME:EDT
DTSTART:20270314T070000
END:DAYLIGHT
BEGIN:STANDARD
TZOFFSETFROM:-0400
TZOFFSETTO:-0500
TZNAME:EST
DTSTART:20271107T060000
END:STANDARD
END:VTIMEZONE
BEGIN:VTIMEZONE
TZID:America/New_York
BEGIN:DAYLIGHT
TZOFFSETFROM:-0500
TZOFFSETTO:-0400
TZNAME:EDT
DTSTART:20250309T070000
END:DAYLIGHT
BEGIN:STANDARD
TZOFFSETFROM:-0400
TZOFFSETTO:-0500
TZNAME:EST
DTSTART:20251102T060000
END:STANDARD
BEGIN:DAYLIGHT
TZOFFSETFROM:-0500
TZOFFSETTO:-0400
TZNAME:EDT
DTSTART:20260308T070000
END:DAYLIGHT
BEGIN:STANDARD
TZOFFSETFROM:-0400
TZOFFSETTO:-0500
TZNAME:EST
DTSTART:20261101T060000
END:STANDARD
BEGIN:DAYLIGHT
TZOFFSETFROM:-0500
TZOFFSETTO:-0400
TZNAME:EDT
DTSTART:20270314T070000
END:DAYLIGHT
BEGIN:STANDARD
TZOFFSETFROM:-0400
TZOFFSETTO:-0500
TZNAME:EST
DTSTART:20271107T060000
END:STANDARD
END:VTIMEZONE
BEGIN:VEVENT
DTSTART;VALUE=DATE:20260501
DTEND;VALUE=DATE:20260601
DTSTAMP:20260421T100655
CREATED:20260416T191044Z
LAST-MODIFIED:20260416T191044Z
UID:2426-1777593600-1780271999@cdowcym.org
SUMMARY:⚙️ Tryouts and Assessments for Fall (May)
DESCRIPTION:All fall sports authorized to host tryouts in accordance with Tryout/Practice Guidelines (2022-2023) or 10.1 Universal Guidelines https://cdowcym.org/empowering-disciples/athletics/universal-rulebook/. \n\n\nMay tryouts and assessments with current students is limited to four dates and all coaches and coordinators must be familiar with affiliation guidelines and mandates.
URL:https://cdowcym.org/event/tryouts-and-assessments-for-fall-sports-in-may/
CATEGORIES:— Fall Sports,— Spring Sports,Athletics
END:VEVENT
BEGIN:VEVENT
DTSTART;VALUE=DATE:20260601
DTEND;VALUE=DATE:20260606
DTSTAMP:20260421T100655
CREATED:20260413T150344Z
LAST-MODIFIED:20260413T150344Z
UID:2402-1780272000-1780703999@cdowcym.org
SUMMARY:✍️ CYM Sports Registration Opens
DESCRIPTION:The 2026 CYM Sports Registration opens this week. \nFor more information on registration overview\, head to www.cymsports.com or https://cdowcym.org/athletics/. \n\nTo register as a returning participant\, click here.\nTo register as a first-year participant\, click here.
URL:https://cdowcym.org/event/cymsports-registration-opens/
CATEGORIES:— Fall Sports,— Spring Sports,— Winter Sports,Athletics
END:VEVENT
BEGIN:VEVENT
DTSTART;VALUE=DATE:20260720
DTEND;VALUE=DATE:20260803
DTSTAMP:20260421T100655
CREATED:20250710T172400Z
LAST-MODIFIED:20260413T153456Z
UID:1711-1784505600-1785715199@cdowcym.org
SUMMARY:⚙️ Tryouts for Fall Sports
DESCRIPTION:All fall sports authorized to host tryouts in accordance with Tryout/Practice Guidelines (2022-2023) or 10.1 Universal Guidelines https://cdowcym.org/empowering-disciples/athletics/universal-rulebook/. \n\nCoaches and Coordinators must be familiar with guidelines as tryouts prior to the official start of practice season does not apply to all programs/teams.
URL:https://cdowcym.org/event/fall-sports-tryouts/
CATEGORIES:— Fall Sports,Athletics
END:VEVENT
BEGIN:VEVENT
DTSTART;TZID=America/New_York:20260801T163000
DTEND;TZID=America/New_York:20260801T163000
DTSTAMP:20260421T100655
CREATED:20250701T181919Z
LAST-MODIFIED:20260416T182029Z
UID:1682-1785601800-1785601800@cdowcym.org
SUMMARY:⚠️ Deadline: Fall Team Submission Sheet
DESCRIPTION:Final day to submit Team Submission Sheet for Fall Sports consideration. \n\nAdd/Drop available until generation of Fall Schedule.\nCYM reserves the right to leave programs behind\, or consolidate teams\, in accordance with this policy.\nCYM reserves right to access penalty fees for roster additions or drops after generating the Fall Schedule.
URL:https://cdowcym.org/event/deadline-fall-team-submission-sheet/
CATEGORIES:— Fall Sports,Athletics
END:VEVENT
BEGIN:VEVENT
DTSTART;TZID=America/New_York:20260801T163000
DTEND;TZID=America/New_York:20260801T163000
DTSTAMP:20260421T100655
CREATED:20250710T170629Z
LAST-MODIFIED:20260416T191219Z
UID:1707-1785601800-1785601800@cdowcym.org
SUMMARY:⚠️ Deadline: Location Availability & Fall Conflicts
DESCRIPTION:Final day to submit Location Availability & Fall Conflict sheet for Fall Sports consideration. \n\nCYM reserves the right to move forward with schedule generation in the absence of submission\, in accordance with policy. This may impact potential games played at home facility.
URL:https://cdowcym.org/event/deadline-location-availability-fall-conflicts/
CATEGORIES:— Fall Sports,Athletics
END:VEVENT
BEGIN:VEVENT
DTSTART;VALUE=DATE:20260803
DTEND;VALUE=DATE:20260804
DTSTAMP:20260421T100655
CREATED:20251024T151008Z
LAST-MODIFIED:20260420T134130Z
UID:2113-1785715200-1785801599@cdowcym.org
SUMMARY:🌟 Fall Practice Season 🌟
DESCRIPTION:All fall sports may begin officially practicing in accordance with 10.1 Universal Guidelines.
URL:https://cdowcym.org/event/fall-practice-season/
CATEGORIES:— Fall Sports,Athletics
END:VEVENT
BEGIN:VEVENT
DTSTART;VALUE=DATE:20260808
DTEND;VALUE=DATE:20260809
DTSTAMP:20260421T100655
CREATED:20250710T175929Z
LAST-MODIFIED:20260416T182819Z
UID:1724-1786147200-1786233599@cdowcym.org
SUMMARY:📌 Release: Fall Sport's Schedules
DESCRIPTION:Fall Sports schedules released on www.cymsports.com. \n\nThe schedule may release earlier\, provided all information is available to the CYM Office to release.\nOnce posted\, the schedule is final with no revisions unless in accordance to standard CYM policies.\n\n 
URL:https://cdowcym.org/event/release-fall-sports-schedules/
CATEGORIES:— Fall Sports,Athletics
END:VEVENT
BEGIN:VEVENT
DTSTART;VALUE=DATE:20260820
DTEND;VALUE=DATE:20260821
DTSTAMP:20260421T100655
CREATED:20250528T185916Z
LAST-MODIFIED:20260413T145843Z
UID:1317-1787184000-1787270399@cdowcym.org
SUMMARY:⚠️ Deadline: Coach Submission of Fall Rosters
DESCRIPTION:Final day and deadline for local coaches/coordinators to submit their rosters to Athletic Association Representatives (AAR) for approval by 11:59pm.
URL:https://cdowcym.org/event/deadline-submission-of-fall-rosters/
CATEGORIES:— Fall Sports,Athletics
END:VEVENT
BEGIN:VEVENT
DTSTART;TZID=America/New_York:20260825T180000
DTEND;TZID=America/New_York:20260825T193000
DTSTAMP:20260421T100655
CREATED:20251024T121643Z
LAST-MODIFIED:20260416T182341Z
UID:2104-1787680800-1787686200@cdowcym.org
SUMMARY:🎥 Meeting for Athletic Association Representatives (Fall)
DESCRIPTION:Fall administrators meeting for Athletic Association Representatives (Athletic Association Presidents and Athletic Directors only). \n🔗 https://us06web.zoom.us/j/88303073208
URL:https://cdowcym.org/event/meeting-for-athletic-association-representatives-fall/
LOCATION:Zoom
CATEGORIES:— Fall Sports,Athletics
END:VEVENT
BEGIN:VEVENT
DTSTART;TZID=America/New_York:20260826T180000
DTEND;TZID=America/New_York:20260826T190000
DTSTAMP:20260421T100655
CREATED:20251024T122314Z
LAST-MODIFIED:20260416T182540Z
UID:2108-1787767200-1787770800@cdowcym.org
SUMMARY:🎥 Meeting for All Fall Coaches
DESCRIPTION:Informational Meeting available for all Fall Coaches. Local coordinators\, head coaches and assistant coaches are encouraged to attend. \n🔗 https://us06web.zoom.us/j/83838792914 \n\nThe meeting is informational based and not a discussion meeting.\nSeparate\, sports-specific meetings are available to coaches for the conclusion of the season.
URL:https://cdowcym.org/event/fall-coaches-meeting/
LOCATION:Zoom
CATEGORIES:— Fall Sports,Athletics
END:VEVENT
BEGIN:VEVENT
DTSTART;TZID=America/New_York:20260827T163000
DTEND;TZID=America/New_York:20260827T163000
DTSTAMP:20260421T100655
CREATED:20250528T191122Z
LAST-MODIFIED:20260413T144828Z
UID:1319-1787848200-1787848200@cdowcym.org
SUMMARY:⚠️ Deadline: Fall Roster Lock on Fall Sports
DESCRIPTION:All fully-cleared coaches and eligible student-athletes must be shown on the designated CYM roster by 4:30 p.m. \nThis is the final roster submission and lock for CYM Sports; no further roster additions are permitted after this point.
URL:https://cdowcym.org/event/deadline-fall-roster-lock/
CATEGORIES:— Fall Sports,Athletics
END:VEVENT
BEGIN:VEVENT
DTSTART;VALUE=DATE:20260828
DTEND;VALUE=DATE:20260829
DTSTAMP:20260421T100655
CREATED:20250710T173612Z
LAST-MODIFIED:20260413T144926Z
UID:1717-1787875200-1787961599@cdowcym.org
SUMMARY:📅 Fall Sports Competition
DESCRIPTION:Official start date of competition season for all fall sports. \nTo find out more about the schedule of events and competition dates\, head to www.cymsports.com.
URL:https://cdowcym.org/event/fall-sports-season/
CATEGORIES:— Fall Sports,Athletics
END:VEVENT
BEGIN:VEVENT
DTSTART;VALUE=DATE:20260904
DTEND;VALUE=DATE:20260908
DTSTAMP:20260421T100655
CREATED:20250528T161055Z
LAST-MODIFIED:20260420T155833Z
UID:1229-1788480000-1788825599@cdowcym.org
SUMMARY:🏖️ Labor Day Weekend Break
DESCRIPTION:No CYM Sports activities and events\, including practices permitted.
URL:https://cdowcym.org/event/labor-day-2/
CATEGORIES:— Fall Sports,Athletics
END:VEVENT
BEGIN:VEVENT
DTSTART;VALUE=DATE:20260916
DTEND;VALUE=DATE:20260917
DTSTAMP:20260421T100655
CREATED:20250528T180737Z
LAST-MODIFIED:20260420T134543Z
UID:1283-1789516800-1789603199@cdowcym.org
SUMMARY:⛳ Joseph A. McNesby Jr. CYO Golf Outing ⛳
DESCRIPTION:34th Annual Joseph A. McNesby Jr. CYO Golf Outing\, benefitting the Office for Catholic Youth\, Young Adult and Family Ministry & CYM Sports.
URL:https://cdowcym.org/event/cyo-golf-outing/
LOCATION:Deerfield Golf Club\, 507 Thompson Station Rd\, Newark\, DE\, 19711\, United States
CATEGORIES:— Fall Sports,Athletics,Events,General
END:VEVENT
BEGIN:VEVENT
DTSTART;VALUE=DATE:20261004
DTEND;VALUE=DATE:20261005
DTSTAMP:20260421T100655
CREATED:20250528T181003Z
LAST-MODIFIED:20260420T155054Z
UID:1285-1791072000-1791158399@cdowcym.org
SUMMARY:🏫 Open House: Salesianum School
DESCRIPTION:CYM-sanctioned league play is subject to continue for 10am and 1pm start-time only\, to allow for opportunity to attend Open House.
URL:https://cdowcym.org/event/open-house-salesianum-school/
CATEGORIES:— Fall Sports,Athletics
END:VEVENT
BEGIN:VEVENT
DTSTART;VALUE=DATE:20261012
DTEND;VALUE=DATE:20261013
DTSTAMP:20260421T100655
CREATED:20250528T160846Z
LAST-MODIFIED:20260420T160357Z
UID:1224-1791763200-1791849599@cdowcym.org
SUMMARY:🚣‍♂️ Columbus Day
DESCRIPTION:No CYM Sports activities and events\, including practices permitted.
URL:https://cdowcym.org/event/columbus-day/
CATEGORIES:— Fall Sports,Athletics
END:VEVENT
BEGIN:VEVENT
DTSTART;VALUE=DATE:20261025
DTEND;VALUE=DATE:20261026
DTSTAMP:20260421T100655
CREATED:20250710T174111Z
LAST-MODIFIED:20260416T180304Z
UID:1720-1792886400-1792972799@cdowcym.org
SUMMARY:👟 Cross Country Championships
DESCRIPTION:The 2026 CYM Sports Cross Country Championships\, hosted by Brandywine Creek State Park. \nFor more information\, head to www.cymsports.com
URL:https://cdowcym.org/event/cross-country-championships/
LOCATION:Brandywine Creek State Park\, 41 Adams Dam Rd\, Wilmington\, DE\, 19807\, United States
CATEGORIES:— Fall Sports,Athletics
END:VEVENT
BEGIN:VEVENT
DTSTART;VALUE=DATE:20261101
DTEND;VALUE=DATE:20261102
DTSTAMP:20260421T100655
CREATED:20250528T183224Z
LAST-MODIFIED:20260416T181343Z
UID:1304-1793491200-1793577599@cdowcym.org
SUMMARY:🏐 Volleyball Championship
DESCRIPTION:The 2026 CYM Sports Volleyball Championships\, hosted by Fournier Hall. \n\nSenior Division: 12:00 PM\nVarsity M Division: 1:15 PM\nVarsity Y Division: 2:30 PM\nVarsity C Division: 3:45 PM\nDiocesan Catholic League: 5:00 PM\n\nFor more information\, head to www.cymsports.com.
URL:https://cdowcym.org/event/volleyball-championship/
LOCATION:Fournier Hall\, 1824 Howland St\, Wilmington\, DE\, 19805\, United States
CATEGORIES:— Fall Sports,Athletics
END:VEVENT
BEGIN:VEVENT
DTSTART;TZID=America/New_York:20261107T103000
DTEND;TZID=America/New_York:20261107T143000
DTSTAMP:20260421T100655
CREATED:20250528T184215Z
LAST-MODIFIED:20260416T180522Z
UID:1313-1794047400-1794061800@cdowcym.org
SUMMARY:⚽️ Soccer Championships
DESCRIPTION:The 2026 CYM Sports Soccer Championships\, hosted by WSFS Sportsplex. \n\nVarsity CYM Division: 10:30 AM\nDiocesan Catholic League: 12:30 PM\n\nImmediately following the two championships\, the Philadelphia Union will play their final regular season game at 4:00 PM for Fan Appreciation Night and Faith & Family CYM Day. \nFor more information\, head to www.cymsports.com. For inquiries on team or family ticket pricing\, please contact cymsports@cdow.org.
URL:https://cdowcym.org/event/soccer-championships/
LOCATION:Philadelphia Union\, 2485 Seaport Dr\, Chester\, PA\, 19013\, United States
CATEGORIES:— Fall Sports,Athletics
END:VEVENT
BEGIN:VEVENT
DTSTART;TZID=America/New_York:20261108T150000
DTEND;TZID=America/New_York:20261108T180000
DTSTAMP:20260421T100655
CREATED:20250528T184845Z
LAST-MODIFIED:20260413T135903Z
UID:1315-1794150000-1794160800@cdowcym.org
SUMMARY:🏈 Football Championship
DESCRIPTION:The 2026 CYM Sports Football Championships\, hosted by Abessinio Stadium. \nFor more information\, head to www.cymsports.com.
URL:https://cdowcym.org/event/football-championship/
LOCATION:Abessinio Stadium\, 1 St. Rocco Way\, Wilmington\, DE\, 19802\, United States
CATEGORIES:— Fall Sports,Athletics
END:VEVENT
END:VCALENDAR