BEGIN:VCALENDAR
VERSION:2.0
PRODID:-//Catholic Youth Ministry - CDOW - ECPv6.15.20//NONSGML v1.0//EN
CALSCALE:GREGORIAN
METHOD:PUBLISH
X-ORIGINAL-URL:https://cdowcym.org
X-WR-CALDESC:Events for Catholic Youth Ministry - CDOW
REFRESH-INTERVAL;VALUE=DURATION:PT1H
X-Robots-Tag:noindex
X-PUBLISHED-TTL:PT1H
BEGIN:VTIMEZONE
TZID:America/New_York
BEGIN:DAYLIGHT
TZOFFSETFROM:-0500
TZOFFSETTO:-0400
TZNAME:EDT
DTSTART:20250309T070000
END:DAYLIGHT
BEGIN:STANDARD
TZOFFSETFROM:-0400
TZOFFSETTO:-0500
TZNAME:EST
DTSTART:20251102T060000
END:STANDARD
BEGIN:DAYLIGHT
TZOFFSETFROM:-0500
TZOFFSETTO:-0400
TZNAME:EDT
DTSTART:20260308T070000
END:DAYLIGHT
BEGIN:STANDARD
TZOFFSETFROM:-0400
TZOFFSETTO:-0500
TZNAME:EST
DTSTART:20261101T060000
END:STANDARD
BEGIN:DAYLIGHT
TZOFFSETFROM:-0500
TZOFFSETTO:-0400
TZNAME:EDT
DTSTART:20270314T070000
END:DAYLIGHT
BEGIN:STANDARD
TZOFFSETFROM:-0400
TZOFFSETTO:-0500
TZNAME:EST
DTSTART:20271107T060000
END:STANDARD
END:VTIMEZONE
BEGIN:VEVENT
DTSTART;TZID=America/New_York:20261107T103000
DTEND;TZID=America/New_York:20261107T143000
DTSTAMP:20260421T225457
CREATED:20250528T184215Z
LAST-MODIFIED:20260416T180522Z
UID:1313-1794047400-1794061800@cdowcym.org
SUMMARY:⚽️ Soccer Championships
DESCRIPTION:The 2026 CYM Sports Soccer Championships\, hosted by WSFS Sportsplex. \n\nVarsity CYM Division: 10:30 AM\nDiocesan Catholic League: 12:30 PM\n\nImmediately following the two championships\, the Philadelphia Union will play their final regular season game at 4:00 PM for Fan Appreciation Night and Faith & Family CYM Day. \nFor more information\, head to www.cymsports.com. For inquiries on team or family ticket pricing\, please contact cymsports@cdow.org.
URL:https://cdowcym.org/event/soccer-championships/
LOCATION:Philadelphia Union\, 2485 Seaport Dr\, Chester\, PA\, 19013\, United States
CATEGORIES:— Fall Sports,Athletics
END:VEVENT
END:VCALENDAR