BEGIN:VCALENDAR
VERSION:2.0
PRODID:-//Catholic Youth Ministry - CDOW - ECPv6.15.20//NONSGML v1.0//EN
CALSCALE:GREGORIAN
METHOD:PUBLISH
X-ORIGINAL-URL:https://cdowcym.org
X-WR-CALDESC:Events for Catholic Youth Ministry - CDOW
REFRESH-INTERVAL;VALUE=DURATION:PT1H
X-Robots-Tag:noindex
X-PUBLISHED-TTL:PT1H
BEGIN:VTIMEZONE
TZID:America/New_York
BEGIN:DAYLIGHT
TZOFFSETFROM:-0500
TZOFFSETTO:-0400
TZNAME:EDT
DTSTART:20250309T070000
END:DAYLIGHT
BEGIN:STANDARD
TZOFFSETFROM:-0400
TZOFFSETTO:-0500
TZNAME:EST
DTSTART:20251102T060000
END:STANDARD
BEGIN:DAYLIGHT
TZOFFSETFROM:-0500
TZOFFSETTO:-0400
TZNAME:EDT
DTSTART:20260308T070000
END:DAYLIGHT
BEGIN:STANDARD
TZOFFSETFROM:-0400
TZOFFSETTO:-0500
TZNAME:EST
DTSTART:20261101T060000
END:STANDARD
BEGIN:DAYLIGHT
TZOFFSETFROM:-0500
TZOFFSETTO:-0400
TZNAME:EDT
DTSTART:20270314T070000
END:DAYLIGHT
BEGIN:STANDARD
TZOFFSETFROM:-0400
TZOFFSETTO:-0500
TZNAME:EST
DTSTART:20271107T060000
END:STANDARD
END:VTIMEZONE
BEGIN:VEVENT
DTSTART;VALUE=DATE:20260720
DTEND;VALUE=DATE:20260803
DTSTAMP:20260421T170934
CREATED:20250710T172400Z
LAST-MODIFIED:20260413T153456Z
UID:1711-1784505600-1785715199@cdowcym.org
SUMMARY:⚙️ Tryouts for Fall Sports
DESCRIPTION:All fall sports authorized to host tryouts in accordance with Tryout/Practice Guidelines (2022-2023) or 10.1 Universal Guidelines https://cdowcym.org/empowering-disciples/athletics/universal-rulebook/. \n\nCoaches and Coordinators must be familiar with guidelines as tryouts prior to the official start of practice season does not apply to all programs/teams.
URL:https://cdowcym.org/event/fall-sports-tryouts/
CATEGORIES:— Fall Sports,Athletics
END:VEVENT
BEGIN:VEVENT
DTSTART;TZID=America/New_York:20260801T163000
DTEND;TZID=America/New_York:20260801T163000
DTSTAMP:20260421T170934
CREATED:20250701T181919Z
LAST-MODIFIED:20260416T182029Z
UID:1682-1785601800-1785601800@cdowcym.org
SUMMARY:⚠️ Deadline: Fall Team Submission Sheet
DESCRIPTION:Final day to submit Team Submission Sheet for Fall Sports consideration. \n\nAdd/Drop available until generation of Fall Schedule.\nCYM reserves the right to leave programs behind\, or consolidate teams\, in accordance with this policy.\nCYM reserves right to access penalty fees for roster additions or drops after generating the Fall Schedule.
URL:https://cdowcym.org/event/deadline-fall-team-submission-sheet/
CATEGORIES:— Fall Sports,Athletics
END:VEVENT
BEGIN:VEVENT
DTSTART;TZID=America/New_York:20260801T163000
DTEND;TZID=America/New_York:20260801T163000
DTSTAMP:20260421T170934
CREATED:20250710T170629Z
LAST-MODIFIED:20260416T191219Z
UID:1707-1785601800-1785601800@cdowcym.org
SUMMARY:⚠️ Deadline: Location Availability & Fall Conflicts
DESCRIPTION:Final day to submit Location Availability & Fall Conflict sheet for Fall Sports consideration. \n\nCYM reserves the right to move forward with schedule generation in the absence of submission\, in accordance with policy. This may impact potential games played at home facility.
URL:https://cdowcym.org/event/deadline-location-availability-fall-conflicts/
CATEGORIES:— Fall Sports,Athletics
END:VEVENT
END:VCALENDAR